BEGIN:VCALENDAR
VERSION:2.0
PRODID:-//wp-events-plugin.com//7.2.3.1//EN
BEGIN:VEVENT
UID:33@t-nitschke.de
DTSTART;TZID=Europe/Berlin:20211201T193000
DTEND;TZID=Europe/Berlin:20211201T203000
DTSTAMP:20211120T101000Z
URL:https://t-nitschke.de/events/fta_fflc_12_2021/
SUMMARY:Fascial Fitness Live Class - Dezember 2021
DESCRIPTION:Ort: Live-Streaming über Zoom\n\nUnterrichtssprache: Englisch\
 n\nMaterialen: Matte\, Wand\, Schaumstoffrolle\n\nDie Fascia Training Acad
 emy bietet regelmäßig Fascial Fitness / Faszientraining Kurse an. Diese 
 werden von unterschiedlichen Master Trainern weltweit ausgerichtet und liv
 e übertragen. Am 1.12.2021 erlebt ihr mich mit einer Übertragung aus Man
 nheim: "Around the Shoulders". Wir erforschen in dieser Stunde den Schulte
 rgürtel mit seinen Verbindungen zum Rest des Körpers und lernen gleichze
 itig alle vier Komponenten von Fascial Fitness kennen.\n\nMehr Information
 en im facebook Event. Die Anmeldung erfolgt über die Fascia Training Acad
 emy.
CATEGORIES:Fascial Fitness,Online Training
END:VEVENT
BEGIN:VTIMEZONE
TZID:Europe/Berlin
X-LIC-LOCATION:Europe/Berlin
BEGIN:STANDARD
DTSTART:20211031T020000
TZOFFSETFROM:+0200
TZOFFSETTO:+0100
TZNAME:CET
END:STANDARD
END:VTIMEZONE
END:VCALENDAR