BEGIN:VCALENDAR
VERSION:2.0
PRODID:-//wp-events-plugin.com//7.2.3.1//EN
BEGIN:VEVENT
UID:34@t-nitschke.de
DTSTART;TZID=Europe/Berlin:20220312T090000
DTEND;TZID=Europe/Berlin:20220313T170000
DTSTAMP:20220308T180210Z
URL:https://t-nitschke.de/events/fft-ausbildung-maerz-2022-1/
SUMMARY:Fascial Fitness Trainer*innen Ausbildung (März 2022)
DESCRIPTION:ENTFÄLLT!\n\nNähere Informationen findet ihr in Kürze auf fa
 cebook oder direkt auf der Anmeldeseite der Fascia Training Academy.\n\nDe
 r Kurs besteht aus zwei Phasen:\n\n 	Online-Selbststudium mit Multiple-Cho
 ice-Tests zur Überprüfung des Lernerfolgs\n 	Zweitägiger Online-Kurs al
 s Live-Stream mit theoretischen und praktischen Anteilen\n
ATTACH;FMTTYPE=image/jpeg:https://t-nitschke.de/wp-content/uploads/2021/01
 /fascial-fitness-certification-course.png
CATEGORIES:Fascial Fitness,Trainer Kurs,Weiterbildung
END:VEVENT
BEGIN:VTIMEZONE
TZID:Europe/Berlin
X-LIC-LOCATION:Europe/Berlin
BEGIN:STANDARD
DTSTART:20211031T020000
TZOFFSETFROM:+0200
TZOFFSETTO:+0100
TZNAME:CET
END:STANDARD
END:VTIMEZONE
END:VCALENDAR