BEGIN:VCALENDAR
VERSION:2.0
PRODID:-//wp-events-plugin.com//7.2.3.1//EN
BEGIN:VEVENT
UID:54@t-nitschke.de
DTSTART;TZID=Europe/Berlin:20260425T140000
DTEND;TZID=Europe/Berlin:20260425T153000
DTSTAMP:20260412T150258Z
URL:https://t-nitschke.de/events/af-az-2026-04/
SUMMARY:Animal Flow im Athletikzirkel (April 2026)
DESCRIPTION:Auch wenn wir uns nah am Boden bewegen\, wird nicht nur herumge
 krabbelt.\n\nAuch wenn viele Übungen Tiernamen tragen\, geht es nicht dar
 um Tiere nachzuahmen.\n\nAuch wenn es durchaus anstrengend sein kann und s
 ein soll\, ist es für ALLE Fitnesslevel geeignet.\n\nMitmachen. Ausprobie
 ren. An diesem Samstag von Null auf Flow in 90 Minuten.\n\nAnmeldung über
  https://www.athletikzirkel.de/
ATTACH;FMTTYPE=image/jpeg:https://t-nitschke.de/wp-content/uploads/2023/04
 /beast.png
CATEGORIES:Animal Flow
LOCATION:Athletikzirkel Walldorf\, Altrottstraße 36\, Walldorf\, 69190\, D
 eutschland
GEO:49.29414;8.64878
X-APPLE-STRUCTURED-LOCATION;VALUE=URI;X-ADDRESS=Altrottstraße 36\, Walldor
 f\, 69190\, Deutschland;X-APPLE-RADIUS=100;X-TITLE=Athletikzirkel Walldorf
 :geo:49.29414,8.64878
END:VEVENT
BEGIN:VTIMEZONE
TZID:Europe/Berlin
X-LIC-LOCATION:Europe/Berlin
BEGIN:DAYLIGHT
DTSTART:20260329T030000
TZOFFSETFROM:+0100
TZOFFSETTO:+0200
TZNAME:CEST
END:DAYLIGHT
END:VTIMEZONE
END:VCALENDAR